BEGIN:VCALENDAR
VERSION:2.0
PRODID:-//Freiwillige Feuerwehr Oelsa//NONSGML kigkonsult.se iCalcreator 2.
 30.10//
CALSCALE:GREGORIAN
METHOD:PUBLISH
UID:41f3adc7-851e-44a4-937b-b09bba72e5b5
X-WR-CALNAME:iCagenda
X-WR-CALDESC:Event Management Extension for Joomla!
X-WR-RELCALID:3E26604A-50F4-4449-8B3E-E4F4932D05B5
X-WR-TIMEZONE:Europe/Berlin
BEGIN:VTIMEZONE
TZID:Europe/Berlin
BEGIN:STANDARD
TZNAME:CET
DTSTART:20231029T030000
TZOFFSETFROM:+0200
TZOFFSETTO:+0100
RDATE:20241027T030000
END:STANDARD
BEGIN:DAYLIGHT
TZNAME:CEST
DTSTART:20230326T020000
TZOFFSETFROM:+0100
TZOFFSETTO:+0200
RDATE:20240331T020000
RDATE:20250330T020000
END:DAYLIGHT
END:VTIMEZONE
BEGIN:VEVENT
UID:ba4231ba-4bb5-441e-a294-d09e5bf5c06e
DTSTAMP:20260424T214506Z
CATEGORIES:Veranstaltungen Feuerwehr
CLASS:PUBLIC
DESCRIPTION;ALTREP="CID:<FFFF__=0ABBE548DFE235B58f9e8a93d@coffeebean.com>":
 Der Routenplan:\nFahrt durch ObernaundorfCa. 16:00 Uhr Dorfgemeinschaftspl
 atz Obernaundorf -&gt\; Der Weihnachtsmann kommt\nFahrt durch RabenauCa. 1
 6:30 Uhr Siedlung Waldfrieden – Vereinshaus -&gt\; Der Weihnachtsmann komm
 tCa. 16:50 Uhr Höhenstraße + Hainsberger StraßeNordstraße + August-Bebel-S
 traßeRingstraßeFeldstraße + OststraßeCa. 17:15 Uhr Markt -&gt\; Der Weihna
 chtsmann kommtCa. 17:40 Uhr Lindenstraße + Unterrabenau\nFahrt durch Spech
 tritzCa. 17:45 Uhr Spechtritz – Pyramide -&gt\; Der Weihnachtsmann kommt\n
 Fahrt durch LübauCa. 18:00 Uhr Feuerwehr Lübau -&gt\; Der Weihnachtsmann k
 ommt\nFahrt durch OelsaCa. 18:30 Uhr Feuerwehr Oelsa -&gt\; Der Weihnachts
 mann kommt\nFahrt durch KarsdorfCa. 19:00 Uhr Feuerwehr Karsdorf -&gt\; De
 r Weihnachtsmann kommt
DTSTART:20231217T150000Z
DTEND:20231217T150000Z
GEO:00;0
LOCATION:Stadtgebiet Rabenau
ORGANIZER:
SEQUENCE:1
SUMMARY:Lichterfahrt der Feuerwehren Rabenau
TRANSP:OPAQUE
URL:https://www.feuerwehroelsa.de/component/icagenda/17-lichterfahrt-der-fe
 uerwehren-rabenau/2023-12-17-16-00
END:VEVENT
END:VCALENDAR
